BEGIN:VCALENDAR
VERSION:2.0
PRODID:-//PYVOBJECT//NONSGML Version 0.9.9//EN
X-WR-TIMEZONE:Africa/Johannesburg
BEGIN:VTIMEZONE
TZID:Africa/Johannesburg
BEGIN:STANDARD
DTSTART:20000101T000000
RRULE:FREQ=YEARLY;BYMONTH=1
TZNAME:SAST
TZOFFSETFROM:+0200
TZOFFSETTO:+0200
END:STANDARD
END:VTIMEZONE
BEGIN:VEVENT
UID:20260425T162920Z - 76072@eos-content
DTSTART;TZID=Africa/Johannesburg:20260425T100000
DTEND;TZID=Africa/Johannesburg:20260425T120000
ATTENDEE:MAILTO:kari.greene@seeff.com
DESCRIPTION:https://nottinghamroad.seeff.com/results/commercial/to-let/nott
 ingham-road/gowrie-village/building/668810/40-gowrie-avenue/\n\nSeeff Nott
 ingham Road Office in Gowrie Village - View by disappointment 033 266 6456
 \n\nKari Greene (082 824 7278)
DTSTAMP:20260425T162920Z
LOCATION:40 Gowrie Avenue\, Gowrie Village\, Nottingham Road
SUMMARY:Seeff Property Group Show Day - CLS5243
END:VEVENT
END:VCALENDAR
